BEGIN:VCALENDAR
VERSION:2.0
PRODID:-//Plone.org//NONSGML plone.app.event//EN
X-WR-TIMEZONE:Europe/Madrid
BEGIN:VEVENT
SUMMARY:Festa de la Tardor
DTSTART;VALUE=DATE:20131006
DTEND;VALUE=DATE:20131007
DTSTAMP;VALUE=DATE-TIME:20260423T124457Z
UID:6c39ab490a4345169c30b722a4342fb1@www.molletvalles.cat
CATEGORIES:Festes populars
CREATED;VALUE=DATE-TIME:20130917T072950Z
LAST-MODIFIED;VALUE=DATE-TIME:20221221T233845Z
LOCATION:Carrer Sant Francesc
URL:https://www.molletvalles.cat/ca/actualitat/agenda/14548
END:VEVENT
END:VCALENDAR
