BEGIN:VCALENDAR
VERSION:2.0
PRODID:-//Plone.org//NONSGML plone.app.event//EN
X-WR-TIMEZONE:Europe/Madrid
BEGIN:VEVENT
SUMMARY:Visita comentada a l'exposició "Tàpies. Des de l'interior" organ
 itzada pel MNAC i la Fundació Tàpies
DTSTART;VALUE=DATE:20131005
DTEND;VALUE=DATE:20131006
DTSTAMP;VALUE=DATE-TIME:20260419T163758Z
UID:41dbb73a6ba546a79d93fb000eddd3a1@www.molletvalles.cat
CATEGORIES:Sortides i excursions
CREATED;VALUE=DATE-TIME:20130919T101931Z
LAST-MODIFIED;VALUE=DATE-TIME:20221221T233912Z
LOCATION:Fundació Antoni Tàpies i Museu Nacional d'Art de Catalunya
URL:https://www.molletvalles.cat/ca/actualitat/agenda/14556
END:VEVENT
END:VCALENDAR
