BEGIN:VCALENDAR
VERSION:2.0
PRODID:-//Plone.org//NONSGML plone.app.event//EN
X-WR-TIMEZONE:Europe/Madrid
BEGIN:VEVENT
SUMMARY:Fira de l'espelta. Dia Mundial dels Ocells
DTSTART;VALUE=DATE:20131006
DTEND;VALUE=DATE:20131007
DTSTAMP;VALUE=DATE-TIME:20260421T172916Z
UID:fbab3e7b0b7c4914a90425b7ed3abcb0@www.molletvalles.cat
CATEGORIES:Exposicions i fires
CREATED;VALUE=DATE-TIME:20130920T081423Z
LAST-MODIFIED;VALUE=DATE-TIME:20221221T233930Z
LOCATION:Plaça de l'església de Gallecs
URL:https://www.molletvalles.cat/ca/actualitat/agenda/14562
END:VEVENT
END:VCALENDAR
