BEGIN:VCALENDAR
VERSION:2.0
PRODID:-//Plone.org//NONSGML plone.app.event//EN
X-WR-TIMEZONE:Europe/Madrid
BEGIN:VEVENT
SUMMARY:Dia Mundial de la Salut Mental: Programa "Posa't les piles" de Rà
 dio Mollet\, especial Salut Mental
DTSTART;VALUE=DATE:20131010
DTEND;VALUE=DATE:20131011
DTSTAMP;VALUE=DATE-TIME:20260425T143719Z
UID:6f59a6f8aec54e279ad9519168619dd2@www.molletvalles.cat
CATEGORIES:Actes diversos
CREATED;VALUE=DATE-TIME:20131003T131148Z
LAST-MODIFIED;VALUE=DATE-TIME:20221221T234057Z
LOCATION:Ràdio Mollet (96.3 fm)
URL:https://www.molletvalles.cat/ca/actualitat/agenda/14603
END:VEVENT
END:VCALENDAR
