BEGIN:VCALENDAR
VERSION:2.0
PRODID:-//Plone.org//NONSGML plone.app.event//EN
X-WR-TIMEZONE:Europe/Madrid
BEGIN:VEVENT
SUMMARY:Sant Vicenç 2014: Grans Clàssics del cinema: "Adéu a les armes"
 \, de Frank Borzage (1932)
DTSTART;VALUE=DATE:20140118
DTEND;VALUE=DATE:20140119
DTSTAMP;VALUE=DATE-TIME:20260421T172916Z
UID:51fcd6052a804370947675d569148454@www.molletvalles.cat
CATEGORIES:Música\, cinema i espectacles
CREATED;VALUE=DATE-TIME:20131008T114555Z
LAST-MODIFIED;VALUE=DATE-TIME:20221221T234112Z
URL:https://www.molletvalles.cat/ca/actualitat/agenda/14613
END:VEVENT
END:VCALENDAR
