BEGIN:VCALENDAR
VERSION:2.0
PRODID:-//Plone.org//NONSGML plone.app.event//EN
X-WR-TIMEZONE:Europe/Madrid
BEGIN:VEVENT
SUMMARY:Ball a l'Espai Sant Jordi
DTSTART;VALUE=DATE:20131102
DTEND;VALUE=DATE:20131103
DTSTAMP;VALUE=DATE-TIME:20260421T102223Z
UID:a7566ba4794e42f79d0448e4cbe6dc40@www.molletvalles.cat
CATEGORIES:Música\, cinema i espectacles
CREATED;VALUE=DATE-TIME:20131009T130921Z
LAST-MODIFIED;VALUE=DATE-TIME:20221221T234129Z
LOCATION:Espai Sant Jordi (Av. Caldes\, 9)
URL:https://www.molletvalles.cat/ca/actualitat/agenda/14621
END:VEVENT
END:VCALENDAR
