BEGIN:VCALENDAR
VERSION:2.0
PRODID:-//Plone.org//NONSGML plone.app.event//EN
X-WR-TIMEZONE:Europe/Madrid
BEGIN:VEVENT
SUMMARY:Presentació equips de la UD Lourdes 
DTSTART;VALUE=DATE:20131101
DTEND;VALUE=DATE:20131102
DTSTAMP;VALUE=DATE-TIME:20260419T163902Z
UID:f30f3b0eaf8c4b24a38e9d6829732add@www.molletvalles.cat
CATEGORIES:Esports
CREATED;VALUE=DATE-TIME:20131023T103931Z
LAST-MODIFIED;VALUE=DATE-TIME:20221221T234301Z
URL:https://www.molletvalles.cat/ca/actualitat/agenda/14670
END:VEVENT
END:VCALENDAR
