BEGIN:VCALENDAR
VERSION:2.0
PRODID:-//Plone.org//NONSGML plone.app.event//EN
X-WR-TIMEZONE:Europe/Madrid
BEGIN:VEVENT
SUMMARY:Passejades per Mollet. Itinerari: Circuit Sant Fost (Caminem Plega
 ts per la Igualtat)
DTSTART;VALUE=DATE:20140316
DTEND;VALUE=DATE:20140317
DTSTAMP;VALUE=DATE-TIME:20260423T124543Z
UID:0583d08fd15f4a7ead4d2cdddafc8ce6@www.molletvalles.cat
CATEGORIES:Esports
CREATED;VALUE=DATE-TIME:20131023T122928Z
LAST-MODIFIED;VALUE=DATE-TIME:20221221T234310Z
URL:https://www.molletvalles.cat/ca/actualitat/agenda/14675
END:VEVENT
END:VCALENDAR
