BEGIN:VCALENDAR
VERSION:2.0
PRODID:-//Plone.org//NONSGML plone.app.event//EN
X-WR-TIMEZONE:Europe/Madrid
BEGIN:VEVENT
SUMMARY:Patge Xumet
DTSTART;VALUE=DATE:20140103
DTEND;VALUE=DATE:20140104
DTSTAMP;VALUE=DATE-TIME:20260423T124743Z
UID:25f4d08092cc4bd689ce595db8cb3e8d@www.molletvalles.cat
CATEGORIES:Infantils
CREATED;VALUE=DATE-TIME:20131202T115605Z
LAST-MODIFIED;VALUE=DATE-TIME:20221221T234741Z
LOCATION:Plaça Prat de la Riba\, Parc de les Pruneres\, Rambles i Av. Lli
 bertat
URL:https://www.molletvalles.cat/ca/actualitat/agenda/14801
END:VEVENT
END:VCALENDAR
