BEGIN:VCALENDAR
VERSION:2.0
PRODID:-//Plone.org//NONSGML plone.app.event//EN
X-WR-TIMEZONE:Europe/Madrid
BEGIN:VEVENT
SUMMARY:Actuació del Conjunt Instrumental de l'Escola de Música
DTSTART;VALUE=DATE:20131220
DTEND;VALUE=DATE:20131221
DTSTAMP;VALUE=DATE-TIME:20260423T124628Z
UID:dfb1ca453fbc4975898c178931c1017f@www.molletvalles.cat
CATEGORIES:Música\, cinema i espectacles
CREATED;VALUE=DATE-TIME:20131210T140331Z
LAST-MODIFIED;VALUE=DATE-TIME:20221221T234838Z
LOCATION:Mercat Municipal
URL:https://www.molletvalles.cat/ca/actualitat/agenda/14832
END:VEVENT
END:VCALENDAR
