BEGIN:VCALENDAR
VERSION:2.0
PRODID:-//Plone.org//NONSGML plone.app.event//EN
X-WR-TIMEZONE:Europe/Madrid
BEGIN:VEVENT
SUMMARY:Ball a l'Espai Sant Jordi
DTSTART;VALUE=DATE:20140201
DTEND;VALUE=DATE:20140202
DTSTAMP;VALUE=DATE-TIME:20260423T124855Z
UID:2cabf1bcf8ef409f95af39fdbd3a1735@www.molletvalles.cat
CATEGORIES:Música\, cinema i espectacles
CREATED;VALUE=DATE-TIME:20131216T092542Z
LAST-MODIFIED;VALUE=DATE-TIME:20221221T234845Z
LOCATION:Espai Sant Jordi (Av. Caldes\, 9)
URL:https://www.molletvalles.cat/ca/actualitat/agenda/14838
END:VEVENT
END:VCALENDAR
