BEGIN:VCALENDAR
VERSION:2.0
PRODID:-//Plone.org//NONSGML plone.app.event//EN
X-WR-TIMEZONE:Europe/Madrid
BEGIN:VEVENT
SUMMARY:Itinerari: Barcino\, la Barcelona de l'època romana
DTSTART;VALUE=DATE:20140308
DTEND;VALUE=DATE:20140309
DTSTAMP;VALUE=DATE-TIME:20260423T124652Z
UID:b7ee58fd08b3403f814d6c2fc1e65b8d@www.molletvalles.cat
CATEGORIES:Sortides i excursions
CREATED;VALUE=DATE-TIME:20140115T084257Z
LAST-MODIFIED;VALUE=DATE-TIME:20221221T235118Z
URL:https://www.molletvalles.cat/ca/actualitat/agenda/14918
END:VEVENT
END:VCALENDAR
