BEGIN:VCALENDAR
VERSION:2.0
PRODID:-//Plone.org//NONSGML plone.app.event//EN
X-WR-TIMEZONE:Europe/Madrid
BEGIN:VEVENT
SUMMARY:Directe al Cívic: Concert de rock amb els grups "El Sastre de Cla
 rck"\, "The Marigold" i "Härte"
DTSTART;VALUE=DATE:20141003
DTEND;VALUE=DATE:20141004
DTSTAMP;VALUE=DATE-TIME:20260423T133530Z
UID:ff216f41a47646a2a7bbd3d8f8dd60a3@www.molletvalles.cat
CATEGORIES:Música\, cinema i espectacles
CREATED;VALUE=DATE-TIME:20140128T132036Z
LAST-MODIFIED;VALUE=DATE-TIME:20221221T235310Z
URL:https://www.molletvalles.cat/ca/actualitat/agenda/14966
END:VEVENT
END:VCALENDAR
