BEGIN:VCALENDAR
VERSION:2.0
PRODID:-//Plone.org//NONSGML plone.app.event//EN
X-WR-TIMEZONE:Europe/Madrid
BEGIN:VEVENT
SUMMARY:Inauguració de l'exposició: "KayenaKandela"\, de Marielena Roqu
 é
DTSTART;VALUE=DATE:20140207
DTEND;VALUE=DATE:20140208
DTSTAMP;VALUE=DATE-TIME:20260423T124820Z
UID:8b6510645b394b859e551df64f17e8ff@www.molletvalles.cat
CATEGORIES:Exposicions i fires
CREATED;VALUE=DATE-TIME:20140204T104403Z
LAST-MODIFIED;VALUE=DATE-TIME:20221221T235353Z
URL:https://www.molletvalles.cat/ca/actualitat/agenda/14988
END:VEVENT
END:VCALENDAR
