BEGIN:VCALENDAR
VERSION:2.0
PRODID:-//Plone.org//NONSGML plone.app.event//EN
X-WR-TIMEZONE:Europe/Madrid
BEGIN:VEVENT
SUMMARY:"Medea" (a la Carta)\, amb Esther Freixa i Ràfols (Proposta escè
 nica sobre el mite de Medea)
DTSTART;VALUE=DATE:20140314
DTEND;VALUE=DATE:20140315
DTSTAMP;VALUE=DATE-TIME:20260423T152500Z
UID:23a50de8dd39428694e485a854477157@www.molletvalles.cat
CATEGORIES:Música\, cinema i espectacles
CREATED;VALUE=DATE-TIME:20140207T144500Z
LAST-MODIFIED;VALUE=DATE-TIME:20221221T235426Z
URL:https://www.molletvalles.cat/ca/actualitat/agenda/15005
END:VEVENT
END:VCALENDAR
