BEGIN:VCALENDAR
VERSION:2.0
PRODID:-//Plone.org//NONSGML plone.app.event//EN
X-WR-TIMEZONE:Europe/Madrid
BEGIN:VEVENT
SUMMARY:20a Fira del Destorb
DTSTART;VALUE=DATE:20140316
DTEND;VALUE=DATE:20140317
DTSTAMP;VALUE=DATE-TIME:20260421T172916Z
UID:153947bd2ded42ddbaf5e5e3441bdf32@www.molletvalles.cat
CATEGORIES:Exposicions i fires
CREATED;VALUE=DATE-TIME:20140210T085808Z
LAST-MODIFIED;VALUE=DATE-TIME:20221221T235426Z
LOCATION:Plaça Prat de la Riba\, Barcelona i Rambla Balmes
URL:https://www.molletvalles.cat/ca/actualitat/agenda/15006
END:VEVENT
END:VCALENDAR
