BEGIN:VCALENDAR
VERSION:2.0
PRODID:-//Plone.org//NONSGML plone.app.event//EN
X-WR-TIMEZONE:Europe/Madrid
BEGIN:VEVENT
SUMMARY:Ball a l'Espai Sant Jordi
DTSTART;VALUE=DATE:20140629
DTEND;VALUE=DATE:20140630
DTSTAMP;VALUE=DATE-TIME:20260423T133649Z
UID:fb4d53fc40f94e54b5d880d0991bf9d0@www.molletvalles.cat
CATEGORIES:Música\, cinema i espectacles
CREATED;VALUE=DATE-TIME:20140219T125649Z
LAST-MODIFIED;VALUE=DATE-TIME:20221221T235526Z
URL:https://www.molletvalles.cat/ca/actualitat/agenda/15044
END:VEVENT
END:VCALENDAR
