BEGIN:VCALENDAR
VERSION:2.0
PRODID:-//Plone.org//NONSGML plone.app.event//EN
X-WR-TIMEZONE:Europe/Madrid
BEGIN:VEVENT
SUMMARY:Club de lectura infantil: Endrapallibres...EXTRA!
DTSTART;VALUE=DATE:20140321
DTEND;VALUE=DATE:20140322
DTSTAMP;VALUE=DATE-TIME:20260423T124711Z
UID:40837c8a0fd14272b152ae4104ca6dd9@www.molletvalles.cat
CATEGORIES:Infantils
CREATED;VALUE=DATE-TIME:20140305T134224Z
LAST-MODIFIED;VALUE=DATE-TIME:20221221T235618Z
URL:https://www.molletvalles.cat/ca/actualitat/agenda/15068
END:VEVENT
END:VCALENDAR
