BEGIN:VCALENDAR
VERSION:2.0
PRODID:-//Plone.org//NONSGML plone.app.event//EN
X-WR-TIMEZONE:Europe/Madrid
BEGIN:VEVENT
SUMMARY:Taller d'escriptura japonesa
DTSTART;VALUE=DATE:20140405
DTEND;VALUE=DATE:20140406
DTSTAMP;VALUE=DATE-TIME:20260423T133530Z
UID:71aab6f130a14a4eaf96afa192f95cf6@www.molletvalles.cat
CATEGORIES:Cursos i tallers
CREATED;VALUE=DATE-TIME:20140312T132658Z
LAST-MODIFIED;VALUE=DATE-TIME:20221221T235655Z
URL:https://www.molletvalles.cat/ca/actualitat/agenda/15084
END:VEVENT
END:VCALENDAR
