BEGIN:VCALENDAR
VERSION:2.0
PRODID:-//Plone.org//NONSGML plone.app.event//EN
X-WR-TIMEZONE:Europe/Madrid
BEGIN:VEVENT
SUMMARY:Cicle d'animació japonesa: "Del manga a l'anime"
DTSTART;VALUE=DATE:20140410
DTEND;VALUE=DATE:20140411
DTSTAMP;VALUE=DATE-TIME:20260423T133605Z
UID:9625849c935f4ca7a6d4d5badbdd935c@www.molletvalles.cat
CATEGORIES:Juvenils
CREATED;VALUE=DATE-TIME:20140312T133108Z
LAST-MODIFIED;VALUE=DATE-TIME:20221221T235658Z
URL:https://www.molletvalles.cat/ca/actualitat/agenda/15085
END:VEVENT
END:VCALENDAR
