BEGIN:VCALENDAR
VERSION:2.0
PRODID:-//Plone.org//NONSGML plone.app.event//EN
X-WR-TIMEZONE:Europe/Madrid
BEGIN:VEVENT
SUMMARY:Cicle de cinema fantàstic i de terror en VOSE: "The Picture Show 
 Cineforum"
DTSTART;VALUE=DATE:20140411
DTEND;VALUE=DATE:20140412
DTSTAMP;VALUE=DATE-TIME:20260419T163911Z
UID:00b986d607e64af7bf2f9fe102809858@www.molletvalles.cat
CATEGORIES:Música\, cinema i espectacles
CREATED;VALUE=DATE-TIME:20140312T141500Z
LAST-MODIFIED;VALUE=DATE-TIME:20221221T235658Z
URL:https://www.molletvalles.cat/ca/actualitat/agenda/15086
END:VEVENT
END:VCALENDAR
