BEGIN:VCALENDAR
VERSION:2.0
PRODID:-//Plone.org//NONSGML plone.app.event//EN
X-WR-TIMEZONE:Europe/Madrid
BEGIN:VEVENT
SUMMARY:Sant Jordi 2014: Lliurament de premis del 11è Concurs de Dibuix d
 e Punts de llibre
DTSTART;VALUE=DATE:20140423
DTEND;VALUE=DATE:20140424
DTSTAMP;VALUE=DATE-TIME:20260423T133615Z
UID:7d7bae30b6f241a7bdb24b808010ff61@www.molletvalles.cat
CATEGORIES:Concursos i premis
CREATED;VALUE=DATE-TIME:20140314T092657Z
LAST-MODIFIED;VALUE=DATE-TIME:20221221T235714Z
LOCATION:Plaça Catalunya
URL:https://www.molletvalles.cat/ca/actualitat/agenda/15094
END:VEVENT
END:VCALENDAR
