BEGIN:VCALENDAR
VERSION:2.0
PRODID:-//Plone.org//NONSGML plone.app.event//EN
X-WR-TIMEZONE:Europe/Madrid
BEGIN:VEVENT
SUMMARY:8a Mostra Internacional de Titelles: "Los últimos piratas"\, a c
 àrrec de Títeres Cacaramusa (Estrena a Catalunya)
DTSTART;VALUE=DATE:20140325
DTEND;VALUE=DATE:20140326
DTSTAMP;VALUE=DATE-TIME:20260423T124310Z
UID:23fcb06e534549a0ad91a1bcfee0c177@www.molletvalles.cat
CATEGORIES:Música\, cinema i espectacles
CREATED;VALUE=DATE-TIME:20140325T135716Z
LAST-MODIFIED;VALUE=DATE-TIME:20221221T235916Z
LOCATION:Plaça Catalunya
URL:https://www.molletvalles.cat/ca/actualitat/agenda/15134
END:VEVENT
END:VCALENDAR
