BEGIN:VCALENDAR
VERSION:2.0
PRODID:-//Plone.org//NONSGML plone.app.event//EN
X-WR-TIMEZONE:Europe/Madrid
BEGIN:VEVENT
SUMMARY:Club de lectura:"El quadern gris" de Josep Pla
DTSTART;VALUE=DATE:20140401
DTEND;VALUE=DATE:20140402
DTSTAMP;VALUE=DATE-TIME:20260423T135119Z
UID:350ee589415148dd867f2eb63445e642@www.molletvalles.cat
CATEGORIES:Juvenils
CREATED;VALUE=DATE-TIME:20140331T095125Z
LAST-MODIFIED;VALUE=DATE-TIME:20221222T000035Z
URL:https://www.molletvalles.cat/ca/actualitat/agenda/15153
END:VEVENT
END:VCALENDAR
