BEGIN:VCALENDAR
VERSION:2.0
PRODID:-//Plone.org//NONSGML plone.app.event//EN
X-WR-TIMEZONE:Europe/Madrid
BEGIN:VEVENT
SUMMARY:Torneig Interclubs de Patinatge Artístic
DTSTART;VALUE=DATE:20140427
DTEND;VALUE=DATE:20140428
DTSTAMP;VALUE=DATE-TIME:20260423T152603Z
UID:07de4db04f684be8a2f1eb746cf7d3c1@www.molletvalles.cat
CATEGORIES:Esports
CREATED;VALUE=DATE-TIME:20140415T070934Z
LAST-MODIFIED;VALUE=DATE-TIME:20221222T000214Z
URL:https://www.molletvalles.cat/ca/actualitat/agenda/15190
END:VEVENT
END:VCALENDAR
