BEGIN:VCALENDAR
VERSION:2.0
PRODID:-//Plone.org//NONSGML plone.app.event//EN
X-WR-TIMEZONE:Europe/Madrid
BEGIN:VEVENT
SUMMARY:Cinefòrum: "El árbol"
DTSTART;VALUE=DATE:20140615
DTEND;VALUE=DATE:20140616
DTSTAMP;VALUE=DATE-TIME:20260423T124608Z
UID:8d05d29455134d6d88bebeb3f21d88ee@www.molletvalles.cat
CATEGORIES:Música\, cinema i espectacles
CREATED;VALUE=DATE-TIME:20140429T070429Z
LAST-MODIFIED;VALUE=DATE-TIME:20221222T000317Z
URL:https://www.molletvalles.cat/ca/actualitat/agenda/15224
END:VEVENT
END:VCALENDAR
