BEGIN:VCALENDAR
VERSION:2.0
PRODID:-//Plone.org//NONSGML plone.app.event//EN
X-WR-TIMEZONE:Europe/Madrid
BEGIN:VEVENT
SUMMARY:Taller intensiu: "El cos que es mou" a càrrec d'Esther Freixa
DTSTART;VALUE=DATE:20140618
DTEND;VALUE=DATE:20140619
DTSTAMP;VALUE=DATE-TIME:20260423T133754Z
UID:ada808f99cad438384bb8357bdc28d64@www.molletvalles.cat
CATEGORIES:Cursos i tallers
CREATED;VALUE=DATE-TIME:20140602T073021Z
LAST-MODIFIED;VALUE=DATE-TIME:20221222T000733Z
LOCATION:Anselm Clavé\, 67  3r pis (CRA'P)
URL:https://www.molletvalles.cat/ca/actualitat/agenda/15337
END:VEVENT
END:VCALENDAR
