BEGIN:VCALENDAR
VERSION:2.0
PRODID:-//Plone.org//NONSGML plone.app.event//EN
X-WR-TIMEZONE:Europe/Madrid
BEGIN:VEVENT
SUMMARY:Sardanes (2a part)\, a càrrec de la Cobla Sabadell
DTSTART;VALUE=DATE:20140623
DTEND;VALUE=DATE:20140624
DTSTAMP;VALUE=DATE-TIME:20260419T164105Z
UID:bf4baec468104123af7c6003d49413bd@www.molletvalles.cat
CATEGORIES:Festes populars
CREATED;VALUE=DATE-TIME:20140603T071807Z
LAST-MODIFIED;VALUE=DATE-TIME:20221222T000740Z
LOCATION:Plaça Catalunya
URL:https://www.molletvalles.cat/ca/actualitat/agenda/15339
END:VEVENT
END:VCALENDAR
