BEGIN:VCALENDAR
VERSION:2.0
PRODID:-//Plone.org//NONSGML plone.app.event//EN
X-WR-TIMEZONE:Europe/Madrid
BEGIN:VEVENT
SUMMARY:Festival d'Estiu de Dansa
DTSTART;VALUE=DATE:20140706
DTEND;VALUE=DATE:20140707
DTSTAMP;VALUE=DATE-TIME:20260419T163955Z
UID:7b26f87ab5dd456f839e67fa2046c681@www.molletvalles.cat
CATEGORIES:Música\, cinema i espectacles
CREATED;VALUE=DATE-TIME:20140612T100913Z
LAST-MODIFIED;VALUE=DATE-TIME:20221222T000928Z
LOCATION:Plaça Major\, 5 Local 6
URL:https://www.molletvalles.cat/ca/actualitat/agenda/15395
END:VEVENT
END:VCALENDAR
