BEGIN:VCALENDAR
VERSION:2.0
PRODID:-//Plone.org//NONSGML plone.app.event//EN
X-WR-TIMEZONE:Europe/Madrid
BEGIN:VEVENT
SUMMARY:Activitats infantils a la Plaça Can Borrell
DTSTART;VALUE=DATE:20140726
DTEND;VALUE=DATE:20140727
DTSTAMP;VALUE=DATE-TIME:20260423T133605Z
UID:b9aecb187a0b4272a9f4708f91433be0@www.molletvalles.cat
CATEGORIES:Infantils
CREATED;VALUE=DATE-TIME:20140619T071343Z
LAST-MODIFIED;VALUE=DATE-TIME:20221222T000943Z
LOCATION:Plaça Can Borrell
URL:https://www.molletvalles.cat/ca/actualitat/agenda/15411
END:VEVENT
END:VCALENDAR
