BEGIN:VCALENDAR
VERSION:2.0
PRODID:-//Plone.org//NONSGML plone.app.event//EN
X-WR-TIMEZONE:Europe/Madrid
BEGIN:VEVENT
SUMMARY:Teatre: "Sueños"
DTSTART;VALUE=DATE:20140705
DTEND;VALUE=DATE:20140706
DTSTAMP;VALUE=DATE-TIME:20260421T174438Z
UID:5318f49c7af5458497ec2ca40178ff22@www.molletvalles.cat
CATEGORIES:Música\, cinema i espectacles
CREATED;VALUE=DATE-TIME:20140627T071350Z
LAST-MODIFIED;VALUE=DATE-TIME:20221222T001016Z
URL:https://www.molletvalles.cat/ca/actualitat/agenda/15440
END:VEVENT
END:VCALENDAR
