BEGIN:VCALENDAR
VERSION:2.0
PRODID:-//Plone.org//NONSGML plone.app.event//EN
X-WR-TIMEZONE:Europe/Madrid
BEGIN:VEVENT
SUMMARY:Ball a l'Espai Sant Jordi
DTSTART;VALUE=DATE:20141012
DTEND;VALUE=DATE:20141013
DTSTAMP;VALUE=DATE-TIME:20260423T152602Z
UID:8dd9d5454f594b659b18d4ddb98c0322@www.molletvalles.cat
CATEGORIES:Música\, cinema i espectacles
CREATED;VALUE=DATE-TIME:20140716T070239Z
LAST-MODIFIED;VALUE=DATE-TIME:20221222T001113Z
URL:https://www.molletvalles.cat/ca/actualitat/agenda/15469
END:VEVENT
END:VCALENDAR
