BEGIN:VCALENDAR
VERSION:2.0
PRODID:-//Plone.org//NONSGML plone.app.event//EN
X-WR-TIMEZONE:Europe/Madrid
BEGIN:VEVENT
SUMMARY:Festa Major 2014: Torneig de petanca
DTSTART;VALUE=DATE:20140815
DTEND;VALUE=DATE:20140816
DTSTAMP;VALUE=DATE-TIME:20260423T133754Z
UID:292f1d98b6824a8290d905c9dab47b51@www.molletvalles.cat
CATEGORIES:Festes populars
CREATED;VALUE=DATE-TIME:20140721T081946Z
LAST-MODIFIED;VALUE=DATE-TIME:20221222T001157Z
LOCATION:Pistes de Petanca Can Mulà
URL:https://www.molletvalles.cat/ca/actualitat/agenda/15487
END:VEVENT
END:VCALENDAR
