BEGIN:VCALENDAR
VERSION:2.0
PRODID:-//Plone.org//NONSGML plone.app.event//EN
X-WR-TIMEZONE:Europe/Madrid
BEGIN:VEVENT
SUMMARY:Festa Major 2014: Missa del Vot de Poble amb presència dels Gegan
 ts de la ciutat
DTSTART;VALUE=DATE:20140817
DTEND;VALUE=DATE:20140818
DTSTAMP;VALUE=DATE-TIME:20260421T102148Z
UID:71b3cf101dc24caead0820a89f6d153e@www.molletvalles.cat
CATEGORIES:Festes populars
CREATED;VALUE=DATE-TIME:20140722T100716Z
LAST-MODIFIED;VALUE=DATE-TIME:20221222T001316Z
LOCATION:Església de Sant Vicenç
URL:https://www.molletvalles.cat/ca/actualitat/agenda/15519
END:VEVENT
END:VCALENDAR
