BEGIN:VCALENDAR
VERSION:2.0
PRODID:-//Plone.org//NONSGML plone.app.event//EN
X-WR-TIMEZONE:Europe/Madrid
BEGIN:VEVENT
SUMMARY:Festa Major 2014: La Nit Destil·lada. Concert amb La República R
 umbera
DTSTART;VALUE=DATE:20140818
DTEND;VALUE=DATE:20140819
DTSTAMP;VALUE=DATE-TIME:20260421T105308Z
UID:aaf039edf35e4b8290107944d3123511@www.molletvalles.cat
CATEGORIES:Festes populars
CREATED;VALUE=DATE-TIME:20140723T063353Z
LAST-MODIFIED;VALUE=DATE-TIME:20221222T001407Z
LOCATION:Parc de les Pruneres
URL:https://www.molletvalles.cat/ca/actualitat/agenda/15543
END:VEVENT
END:VCALENDAR
