BEGIN:VCALENDAR
VERSION:2.0
PRODID:-//Plone.org//NONSGML plone.app.event//EN
X-WR-TIMEZONE:Europe/Madrid
BEGIN:VEVENT
SUMMARY:Festa Major 2014: Concurs de truites i vermut popular
DTSTART;VALUE=DATE:20140819
DTEND;VALUE=DATE:20140820
DTSTAMP;VALUE=DATE-TIME:20260423T124627Z
UID:c3a2909c154145b2a5bbc6befecd05fe@www.molletvalles.cat
CATEGORIES:Festes populars
CREATED;VALUE=DATE-TIME:20140723T075133Z
LAST-MODIFIED;VALUE=DATE-TIME:20221222T001419Z
LOCATION:Plaça de Pau Casals
URL:https://www.molletvalles.cat/ca/actualitat/agenda/15550
END:VEVENT
END:VCALENDAR
