BEGIN:VCALENDAR
VERSION:2.0
PRODID:-//Plone.org//NONSGML plone.app.event//EN
X-WR-TIMEZONE:Europe/Madrid
BEGIN:VEVENT
SUMMARY:Festa de presentació de la Programació d'activitats\, cursos i t
 allers per a gent gran. Curs 2014-2015
DTSTART;VALUE=DATE:20140909
DTEND;VALUE=DATE:20140910
DTSTAMP;VALUE=DATE-TIME:20260421T105243Z
UID:8de7bb59d0b04356a4f1c30c9d3d6d30@www.molletvalles.cat
CATEGORIES:Actes diversos
CREATED;VALUE=DATE-TIME:20140725T061209Z
LAST-MODIFIED;VALUE=DATE-TIME:20221222T001450Z
URL:https://www.molletvalles.cat/ca/actualitat/agenda/15568
END:VEVENT
END:VCALENDAR
