BEGIN:VCALENDAR
VERSION:2.0
PRODID:-//Plone.org//NONSGML plone.app.event//EN
X-WR-TIMEZONE:Europe/Madrid
BEGIN:VEVENT
SUMMARY:Fira d'Artesans 2014: Xocolatada\, a càrrec dels veïns de la Fir
 a
DTSTART;VALUE=DATE:20140920
DTEND;VALUE=DATE:20140921
DTSTAMP;VALUE=DATE-TIME:20260419T164051Z
UID:7e6b937632924fc689751d6e32dd55fc@www.molletvalles.cat
CATEGORIES:Festes populars
CREATED;VALUE=DATE-TIME:20140728T060919Z
LAST-MODIFIED;VALUE=DATE-TIME:20221222T001458Z
LOCATION:Plaça de l'Artesania
URL:https://www.molletvalles.cat/ca/actualitat/agenda/15573
END:VEVENT
END:VCALENDAR
