BEGIN:VCALENDAR
VERSION:2.0
PRODID:-//Plone.org//NONSGML plone.app.event//EN
X-WR-TIMEZONE:Europe/Madrid
BEGIN:VEVENT
SUMMARY:Ball a l'Espai Sant Jordi
DTSTART;VALUE=DATE:20141220
DTEND;VALUE=DATE:20141221
DTSTAMP;VALUE=DATE-TIME:20260421T105313Z
UID:9e1bb5e64e4948e1909436a62629670e@www.molletvalles.cat
CATEGORIES:Música\, cinema i espectacles
CREATED;VALUE=DATE-TIME:20140805T104557Z
LAST-MODIFIED;VALUE=DATE-TIME:20221222T001605Z
URL:https://www.molletvalles.cat/ca/actualitat/agenda/15599
END:VEVENT
END:VCALENDAR
