BEGIN:VCALENDAR
VERSION:2.0
PRODID:-//Plone.org//NONSGML plone.app.event//EN
X-WR-TIMEZONE:Europe/Madrid
BEGIN:VEVENT
SUMMARY:Dia Mundial de la Salut Mental: Programa "Posa't les piles" de Rà
 dio Mollet\, especial Salut Mental
DTSTART;VALUE=DATE:20141010
DTEND;VALUE=DATE:20141011
DTSTAMP;VALUE=DATE-TIME:20260425T124253Z
UID:207e834e9e2542cdb42a1c7b6a35de3c@www.molletvalles.cat
CATEGORIES:Actes diversos
CREATED;VALUE=DATE-TIME:20140918T104822Z
LAST-MODIFIED;VALUE=DATE-TIME:20221222T001828Z
URL:https://www.molletvalles.cat/ca/actualitat/agenda/15656
END:VEVENT
END:VCALENDAR
