BEGIN:VCALENDAR
VERSION:2.0
PRODID:-//Plone.org//NONSGML plone.app.event//EN
X-WR-TIMEZONE:Europe/Madrid
BEGIN:VEVENT
SUMMARY:Taller infantil: Fem un llibre d'artista
DTSTART;VALUE=DATE:20141116
DTEND;VALUE=DATE:20141117
DTSTAMP;VALUE=DATE-TIME:20260423T124820Z
UID:137c85e24e2e41af8a4ed2c2e53d98f4@www.molletvalles.cat
CATEGORIES:Infantils
CREATED;VALUE=DATE-TIME:20141006T123243Z
LAST-MODIFIED;VALUE=DATE-TIME:20221222T002015Z
URL:https://www.molletvalles.cat/ca/actualitat/agenda/15701
END:VEVENT
END:VCALENDAR
