BEGIN:VCALENDAR
VERSION:2.0
PRODID:-//Plone.org//NONSGML plone.app.event//EN
X-WR-TIMEZONE:Europe/Madrid
BEGIN:VEVENT
SUMMARY:II Night Trail (5 o 15 km)
DTSTART;VALUE=DATE:20141101
DTEND;VALUE=DATE:20141102
DTSTAMP;VALUE=DATE-TIME:20260423T133615Z
UID:b0e9674f565d4214913b46dc9724ff9e@www.molletvalles.cat
CATEGORIES:Esports
CREATED;VALUE=DATE-TIME:20141013T115459Z
LAST-MODIFIED;VALUE=DATE-TIME:20221222T002158Z
URL:https://www.molletvalles.cat/ca/actualitat/agenda/15738
END:VEVENT
END:VCALENDAR
