BEGIN:VCALENDAR
VERSION:2.0
PRODID:-//Plone.org//NONSGML plone.app.event//EN
X-WR-TIMEZONE:Europe/Madrid
BEGIN:VEVENT
SUMMARY:"I els divendres\, què?". Doble concert de música electrònica: 
 Sustainer i Valdrara
DTSTART;VALUE=DATE:20141024
DTEND;VALUE=DATE:20141025
DTSTAMP;VALUE=DATE-TIME:20260421T102043Z
UID:8d46a87a9c1b4a439759c32f9666e4db@www.molletvalles.cat
CATEGORIES:Música\, cinema i espectacles
CREATED;VALUE=DATE-TIME:20141015T125232Z
LAST-MODIFIED;VALUE=DATE-TIME:20221222T002212Z
URL:https://www.molletvalles.cat/ca/actualitat/agenda/15744
END:VEVENT
END:VCALENDAR
