BEGIN:VCALENDAR
VERSION:2.0
PRODID:-//Plone.org//NONSGML plone.app.event//EN
X-WR-TIMEZONE:Europe/Madrid
BEGIN:VEVENT
SUMMARY:Campionat d'Espanya A.C. Joves Promeses
DTSTART;VALUE=DATE:20141031
DTEND;VALUE=DATE:20141101
DTSTAMP;VALUE=DATE-TIME:20260425T124316Z
UID:0d6be612b168478a987e816753554d30@www.molletvalles.cat
CATEGORIES:Esports
CREATED;VALUE=DATE-TIME:20141017T112831Z
LAST-MODIFIED;VALUE=DATE-TIME:20221222T002236Z
URL:https://www.molletvalles.cat/ca/actualitat/agenda/15754
END:VEVENT
END:VCALENDAR
