BEGIN:VCALENDAR
VERSION:2.0
PRODID:-//Plone.org//NONSGML plone.app.event//EN
X-WR-TIMEZONE:Europe/Madrid
BEGIN:VEVENT
SUMMARY:Cine-Fòrum: "Cerezos en flor" de Doris Dörrie
DTSTART;VALUE=DATE:20141031
DTEND;VALUE=DATE:20141101
DTSTAMP;VALUE=DATE-TIME:20260423T152507Z
UID:79b2086860f34a43aa9f873f5b88a9a1@www.molletvalles.cat
CATEGORIES:Música\, cinema i espectacles
CREATED;VALUE=DATE-TIME:20141027T120831Z
LAST-MODIFIED;VALUE=DATE-TIME:20221222T002326Z
LOCATION:Sala Fiveller
URL:https://www.molletvalles.cat/ca/actualitat/agenda/15780
END:VEVENT
END:VCALENDAR
