BEGIN:VCALENDAR
VERSION:2.0
PRODID:-//Plone.org//NONSGML plone.app.event//EN
X-WR-TIMEZONE:Europe/Madrid
BEGIN:VEVENT
SUMMARY:El racó de l'artista. Exposició de Ricard Mira "L'ànima del fer
 ro"
DTSTART;VALUE=DATE:20141109
DTEND;VALUE=DATE:20141110
DTSTAMP;VALUE=DATE-TIME:20260423T124749Z
UID:d346687a2f5f44f2a17792e26f09747b@www.molletvalles.cat
CATEGORIES:Exposicions i fires
CREATED;VALUE=DATE-TIME:20141106T104419Z
LAST-MODIFIED;VALUE=DATE-TIME:20221222T002526Z
URL:https://www.molletvalles.cat/ca/actualitat/agenda/15832
END:VEVENT
END:VCALENDAR
