BEGIN:VCALENDAR
VERSION:2.0
PRODID:-//Plone.org//NONSGML plone.app.event//EN
X-WR-TIMEZONE:Europe/Madrid
BEGIN:VEVENT
SUMMARY:Caga tió
DTSTART;VALUE=DATE:20141225
DTEND;VALUE=DATE:20141226
DTSTAMP;VALUE=DATE-TIME:20260423T133647Z
UID:112063f1b7a84a9184096ead3f97d211@www.molletvalles.cat
CATEGORIES:Actes diversos
CREATED;VALUE=DATE-TIME:20141114T124931Z
LAST-MODIFIED;VALUE=DATE-TIME:20221222T002628Z
LOCATION:Al seu local al Passatge de l'Ombra\, 1
URL:https://www.molletvalles.cat/ca/actualitat/agenda/15857
END:VEVENT
END:VCALENDAR
