BEGIN:VCALENDAR
VERSION:2.0
PRODID:-//Plone.org//NONSGML plone.app.event//EN
X-WR-TIMEZONE:Europe/Madrid
BEGIN:VEVENT
SUMMARY:Teatre infantil: "La caputxeta vermella"\, a càrrec de la Company
 ia Dreams Teatre
DTSTART;VALUE=DATE:20141221
DTEND;VALUE=DATE:20141222
DTSTAMP;VALUE=DATE-TIME:20260423T124751Z
UID:0f7cd37e1e6b43b7bbf53c882dd8a2bb@www.molletvalles.cat
CATEGORIES:Infantils
CREATED;VALUE=DATE-TIME:20141117T084737Z
LAST-MODIFIED;VALUE=DATE-TIME:20221222T002644Z
URL:https://www.molletvalles.cat/ca/actualitat/agenda/15864
END:VEVENT
END:VCALENDAR
