BEGIN:VCALENDAR
VERSION:2.0
PRODID:-//Plone.org//NONSGML plone.app.event//EN
X-WR-TIMEZONE:Europe/Madrid
BEGIN:VEVENT
SUMMARY:Sessions d'aprenentatge dels aparells de psicomotricitat instal·l
 ats a Ca n'Arimon per a la gent gran
DTSTART;VALUE=DATE:20141210
DTEND;VALUE=DATE:20141211
DTSTAMP;VALUE=DATE-TIME:20260423T124711Z
UID:8e9a6eb2bff044f9b86a020cfba1d75b@www.molletvalles.cat
CATEGORIES:Esports
CREATED;VALUE=DATE-TIME:20141125T094422Z
LAST-MODIFIED;VALUE=DATE-TIME:20221222T002739Z
URL:https://www.molletvalles.cat/ca/actualitat/agenda/15896
END:VEVENT
END:VCALENDAR
