BEGIN:VCALENDAR
VERSION:2.0
PRODID:-//Plone.org//NONSGML plone.app.event//EN
X-WR-TIMEZONE:Europe/Madrid
BEGIN:VEVENT
SUMMARY:Taller infantil: Nadal al Museu
DTSTART;VALUE=DATE:20150102
DTEND;VALUE=DATE:20150103
DTSTAMP;VALUE=DATE-TIME:20260421T183106Z
UID:c320f23235ac4844b6c39b27165aa3bb@www.molletvalles.cat
CATEGORIES:Infantils
CREATED;VALUE=DATE-TIME:20141201T135715Z
LAST-MODIFIED;VALUE=DATE-TIME:20221222T002821Z
URL:https://www.molletvalles.cat/ca/actualitat/agenda/15917
END:VEVENT
END:VCALENDAR
